BEGIN:VCALENDAR
VERSION:2.0
PRODID:icalendar-ruby
CALSCALE:GREGORIAN
METHOD:PUBLISH
BEGIN:VEVENT
DTSTAMP:20260421T142103Z
UID:72-2073210@peninsulamission.org
DTSTART:20261101T180000Z
DTEND:20261101T193000Z
CLASS:PUBLIC
CREATED:20260421T054852
DESCRIPTION:Currently meeting at the Rest Haven Seventh-day Adventist facil
 ity\, 9300 Willingdon Road\, North Saanich
LAST-MODIFIED:20260421T054852
LOCATION:
SUMMARY:Worship Service
URL;VALUE=URI:https://www.peninsulamission.org/events/worship-service--72/2
 026-11-01
ATTACH;FILENAME=bulletin-cover-2026.jpe;FMTTYPE=image/jpeg:https://dq5pwpg1
 q8ru0.cloudfront.net/2026/01/04/23/03/50/f85b32e8-d3a4-4779-a4b6-858eb44d3
 527/bulletin-cover-2026.jpe
END:VEVENT
END:VCALENDAR
